BEGIN:VCALENDAR
VERSION:2.0
PRODID:http://www.kufer.de/kuferweb / DE
METHOD:PUBLISH
CALSCALE:GREGORIAN
X-WR-TIMEZONE:Europe/Berlin
BEGIN:VTIMEZONE
TZID:Europe/Berlin
X-LIC-LOCATION:Europe/Berlin
BEGIN:DAYLIGHT
TZOFFSETFROM:+0100
TZOFFSETTO:+0200
TZNAME:CEST
DTSTART;TZID=Europe/Berlin:19700329T020000
RRULE:FREQ=YEARLY;INTERVAL=1;BYDAY=-1SU;BYMONTH=3
END:DAYLIGHT
BEGIN:STANDARD
TZOFFSETFROM:+0200
TZOFFSETTO:+0100
TZNAME:CET
DTSTART;TZID=Europe/Berlin:19701025T030000
RRULE:FREQ=YEARLY;INTERVAL=1;BYDAY=-1SU;BYMONTH=10
END:STANDARD
END:VTIMEZONE
BEGIN:VEVENT
DTSTAMP:20260421T140428
DTSTART;TZID=Europe/Berlin:20261027T110000
DTEND;TZID=Europe/Berlin:20261027T120000
UID:26201YFM02-20261027T110000@KATH. FBSHAMBURG
SUMMARY:Yoga für Mamas (26201YFM02) 
LOCATION:Kath. Familienbildungsstätte Hamburg e.V., Tagungsraum, Lübecker Str. 101, 22087 Hamburg
END:VEVENT
BEGIN:VEVENT
DTSTAMP:20260421T140428
DTSTART;TZID=Europe/Berlin:20261103T110000
DTEND;TZID=Europe/Berlin:20261103T120000
UID:26201YFM02-20261103T110000@KATH. FBSHAMBURG
SUMMARY:Yoga für Mamas (26201YFM02) 
LOCATION:Kath. Familienbildungsstätte Hamburg e.V., Tagungsraum, Lübecker Str. 101, 22087 Hamburg
END:VEVENT
BEGIN:VEVENT
DTSTAMP:20260421T140428
DTSTART;TZID=Europe/Berlin:20261110T110000
DTEND;TZID=Europe/Berlin:20261110T120000
UID:26201YFM02-20261110T110000@KATH. FBSHAMBURG
SUMMARY:Yoga für Mamas (26201YFM02) 
LOCATION:Kath. Familienbildungsstätte Hamburg e.V., Tagungsraum, Lübecker Str. 101, 22087 Hamburg
END:VEVENT
BEGIN:VEVENT
DTSTAMP:20260421T140428
DTSTART;TZID=Europe/Berlin:20261117T110000
DTEND;TZID=Europe/Berlin:20261117T120000
UID:26201YFM02-20261117T110000@KATH. FBSHAMBURG
SUMMARY:Yoga für Mamas (26201YFM02) 
LOCATION:Kath. Familienbildungsstätte Hamburg e.V., Tagungsraum, Lübecker Str. 101, 22087 Hamburg
END:VEVENT
BEGIN:VEVENT
DTSTAMP:20260421T140428
DTSTART;TZID=Europe/Berlin:20261124T110000
DTEND;TZID=Europe/Berlin:20261124T120000
UID:26201YFM02-20261124T110000@KATH. FBSHAMBURG
SUMMARY:Yoga für Mamas (26201YFM02) 
LOCATION:Kath. Familienbildungsstätte Hamburg e.V., Tagungsraum, Lübecker Str. 101, 22087 Hamburg
END:VEVENT
BEGIN:VEVENT
DTSTAMP:20260421T140428
DTSTART;TZID=Europe/Berlin:20261201T110000
DTEND;TZID=Europe/Berlin:20261201T120000
UID:26201YFM02-20261201T110000@KATH. FBSHAMBURG
SUMMARY:Yoga für Mamas (26201YFM02) 
LOCATION:Kath. Familienbildungsstätte Hamburg e.V., Tagungsraum, Lübecker Str. 101, 22087 Hamburg
END:VEVENT
BEGIN:VEVENT
DTSTAMP:20260421T140428
DTSTART;TZID=Europe/Berlin:20261208T110000
DTEND;TZID=Europe/Berlin:20261208T120000
UID:26201YFM02-20261208T110000@KATH. FBSHAMBURG
SUMMARY:Yoga für Mamas (26201YFM02) 
LOCATION:Kath. Familienbildungsstätte Hamburg e.V., Tagungsraum, Lübecker Str. 101, 22087 Hamburg
END:VEVENT
BEGIN:VEVENT
DTSTAMP:20260421T140428
DTSTART;TZID=Europe/Berlin:20261215T110000
DTEND;TZID=Europe/Berlin:20261215T120000
UID:26201YFM02-20261215T110000@KATH. FBSHAMBURG
SUMMARY:Yoga für Mamas (26201YFM02) 
LOCATION:Kath. Familienbildungsstätte Hamburg e.V., Tagungsraum, Lübecker Str. 101, 22087 Hamburg
END:VEVENT
END:VCALENDAR