BEGIN:VCALENDAR
VERSION:2.0
PRODID:http://www.kufer.de/kuferweb / DE
METHOD:PUBLISH
CALSCALE:GREGORIAN
X-WR-TIMEZONE:Europe/Berlin
BEGIN:VTIMEZONE
TZID:Europe/Berlin
X-LIC-LOCATION:Europe/Berlin
BEGIN:DAYLIGHT
TZOFFSETFROM:+0100
TZOFFSETTO:+0200
TZNAME:CEST
DTSTART;TZID=Europe/Berlin:19700329T020000
RRULE:FREQ=YEARLY;INTERVAL=1;BYDAY=-1SU;BYMONTH=3
END:DAYLIGHT
BEGIN:STANDARD
TZOFFSETFROM:+0200
TZOFFSETTO:+0100
TZNAME:CET
DTSTART;TZID=Europe/Berlin:19701025T030000
RRULE:FREQ=YEARLY;INTERVAL=1;BYDAY=-1SU;BYMONTH=10
END:STANDARD
END:VTIMEZONE
BEGIN:VEVENT
DTSTAMP:20260421T140413
DTSTART;TZID=Europe/Berlin:20261104T165000
DTEND;TZID=Europe/Berlin:20261104T173500
UID:26201MUS06-20261104T165000@KATH. FBSHAMBURG
SUMMARY:Musikgarten für Eltern mit Kindern von 3 - 5 Jahren (26201MUS06) 
LOCATION:Kath. Familienbildungsstätte Hamburg e.V., Eltern-Kind-Raum, Lübecker Str. 101, 22087 Hamburg
END:VEVENT
BEGIN:VEVENT
DTSTAMP:20260421T140413
DTSTART;TZID=Europe/Berlin:20261111T165000
DTEND;TZID=Europe/Berlin:20261111T173500
UID:26201MUS06-20261111T165000@KATH. FBSHAMBURG
SUMMARY:Musikgarten für Eltern mit Kindern von 3 - 5 Jahren (26201MUS06) 
LOCATION:Kath. Familienbildungsstätte Hamburg e.V., Eltern-Kind-Raum, Lübecker Str. 101, 22087 Hamburg
END:VEVENT
BEGIN:VEVENT
DTSTAMP:20260421T140413
DTSTART;TZID=Europe/Berlin:20261118T165000
DTEND;TZID=Europe/Berlin:20261118T173500
UID:26201MUS06-20261118T165000@KATH. FBSHAMBURG
SUMMARY:Musikgarten für Eltern mit Kindern von 3 - 5 Jahren (26201MUS06) 
LOCATION:Kath. Familienbildungsstätte Hamburg e.V., Eltern-Kind-Raum, Lübecker Str. 101, 22087 Hamburg
END:VEVENT
BEGIN:VEVENT
DTSTAMP:20260421T140413
DTSTART;TZID=Europe/Berlin:20261125T165000
DTEND;TZID=Europe/Berlin:20261125T173500
UID:26201MUS06-20261125T165000@KATH. FBSHAMBURG
SUMMARY:Musikgarten für Eltern mit Kindern von 3 - 5 Jahren (26201MUS06) 
LOCATION:Kath. Familienbildungsstätte Hamburg e.V., Eltern-Kind-Raum, Lübecker Str. 101, 22087 Hamburg
END:VEVENT
BEGIN:VEVENT
DTSTAMP:20260421T140413
DTSTART;TZID=Europe/Berlin:20261202T165000
DTEND;TZID=Europe/Berlin:20261202T173500
UID:26201MUS06-20261202T165000@KATH. FBSHAMBURG
SUMMARY:Musikgarten für Eltern mit Kindern von 3 - 5 Jahren (26201MUS06) 
LOCATION:Kath. Familienbildungsstätte Hamburg e.V., Eltern-Kind-Raum, Lübecker Str. 101, 22087 Hamburg
END:VEVENT
BEGIN:VEVENT
DTSTAMP:20260421T140413
DTSTART;TZID=Europe/Berlin:20261209T165000
DTEND;TZID=Europe/Berlin:20261209T173500
UID:26201MUS06-20261209T165000@KATH. FBSHAMBURG
SUMMARY:Musikgarten für Eltern mit Kindern von 3 - 5 Jahren (26201MUS06) 
LOCATION:Kath. Familienbildungsstätte Hamburg e.V., Eltern-Kind-Raum, Lübecker Str. 101, 22087 Hamburg
END:VEVENT
BEGIN:VEVENT
DTSTAMP:20260421T140413
DTSTART;TZID=Europe/Berlin:20261216T165000
DTEND;TZID=Europe/Berlin:20261216T173500
UID:26201MUS06-20261216T165000@KATH. FBSHAMBURG
SUMMARY:Musikgarten für Eltern mit Kindern von 3 - 5 Jahren (26201MUS06) 
LOCATION:Kath. Familienbildungsstätte Hamburg e.V., Eltern-Kind-Raum, Lübecker Str. 101, 22087 Hamburg
END:VEVENT
END:VCALENDAR