BEGIN:VCALENDAR
VERSION:2.0
PRODID:http://www.kufer.de/kuferweb / DE
METHOD:PUBLISH
CALSCALE:GREGORIAN
X-WR-TIMEZONE:Europe/Berlin
BEGIN:VTIMEZONE
TZID:Europe/Berlin
X-LIC-LOCATION:Europe/Berlin
BEGIN:DAYLIGHT
TZOFFSETFROM:+0100
TZOFFSETTO:+0200
TZNAME:CEST
DTSTART;TZID=Europe/Berlin:19700329T020000
RRULE:FREQ=YEARLY;INTERVAL=1;BYDAY=-1SU;BYMONTH=3
END:DAYLIGHT
BEGIN:STANDARD
TZOFFSETFROM:+0200
TZOFFSETTO:+0100
TZNAME:CET
DTSTART;TZID=Europe/Berlin:19701025T030000
RRULE:FREQ=YEARLY;INTERVAL=1;BYDAY=-1SU;BYMONTH=10
END:STANDARD
END:VTIMEZONE
BEGIN:VEVENT
DTSTAMP:20260421T140433
DTSTART;TZID=Europe/Berlin:20260826T165000
DTEND;TZID=Europe/Berlin:20260826T173500
UID:26201MUS03-20260826T165000@KATH. FBSHAMBURG
SUMMARY:Musikgarten für Eltern mit Kindern von 3 - 5 Jahren (26201MUS03) 
LOCATION:Kath. Familienbildungsstätte Hamburg e.V., Eltern-Kind-Raum, Lübecker Str. 101, 22087 Hamburg
END:VEVENT
BEGIN:VEVENT
DTSTAMP:20260421T140433
DTSTART;TZID=Europe/Berlin:20260902T165000
DTEND;TZID=Europe/Berlin:20260902T173500
UID:26201MUS03-20260902T165000@KATH. FBSHAMBURG
SUMMARY:Musikgarten für Eltern mit Kindern von 3 - 5 Jahren (26201MUS03) 
LOCATION:Kath. Familienbildungsstätte Hamburg e.V., Eltern-Kind-Raum, Lübecker Str. 101, 22087 Hamburg
END:VEVENT
BEGIN:VEVENT
DTSTAMP:20260421T140433
DTSTART;TZID=Europe/Berlin:20260909T165000
DTEND;TZID=Europe/Berlin:20260909T173500
UID:26201MUS03-20260909T165000@KATH. FBSHAMBURG
SUMMARY:Musikgarten für Eltern mit Kindern von 3 - 5 Jahren (26201MUS03) 
LOCATION:Kath. Familienbildungsstätte Hamburg e.V., Eltern-Kind-Raum, Lübecker Str. 101, 22087 Hamburg
END:VEVENT
BEGIN:VEVENT
DTSTAMP:20260421T140433
DTSTART;TZID=Europe/Berlin:20260916T165000
DTEND;TZID=Europe/Berlin:20260916T173500
UID:26201MUS03-20260916T165000@KATH. FBSHAMBURG
SUMMARY:Musikgarten für Eltern mit Kindern von 3 - 5 Jahren (26201MUS03) 
LOCATION:Kath. Familienbildungsstätte Hamburg e.V., Eltern-Kind-Raum, Lübecker Str. 101, 22087 Hamburg
END:VEVENT
BEGIN:VEVENT
DTSTAMP:20260421T140433
DTSTART;TZID=Europe/Berlin:20260923T165000
DTEND;TZID=Europe/Berlin:20260923T173500
UID:26201MUS03-20260923T165000@KATH. FBSHAMBURG
SUMMARY:Musikgarten für Eltern mit Kindern von 3 - 5 Jahren (26201MUS03) 
LOCATION:Kath. Familienbildungsstätte Hamburg e.V., Eltern-Kind-Raum, Lübecker Str. 101, 22087 Hamburg
END:VEVENT
BEGIN:VEVENT
DTSTAMP:20260421T140433
DTSTART;TZID=Europe/Berlin:20260930T165000
DTEND;TZID=Europe/Berlin:20260930T173500
UID:26201MUS03-20260930T165000@KATH. FBSHAMBURG
SUMMARY:Musikgarten für Eltern mit Kindern von 3 - 5 Jahren (26201MUS03) 
LOCATION:Kath. Familienbildungsstätte Hamburg e.V., Eltern-Kind-Raum, Lübecker Str. 101, 22087 Hamburg
END:VEVENT
BEGIN:VEVENT
DTSTAMP:20260421T140433
DTSTART;TZID=Europe/Berlin:20261007T165000
DTEND;TZID=Europe/Berlin:20261007T173500
UID:26201MUS03-20261007T165000@KATH. FBSHAMBURG
SUMMARY:Musikgarten für Eltern mit Kindern von 3 - 5 Jahren (26201MUS03) 
LOCATION:Kath. Familienbildungsstätte Hamburg e.V., Eltern-Kind-Raum, Lübecker Str. 101, 22087 Hamburg
END:VEVENT
END:VCALENDAR