BEGIN:VCALENDAR
VERSION:2.0
PRODID:http://www.kufer.de/kuferweb / DE
METHOD:PUBLISH
CALSCALE:GREGORIAN
X-WR-TIMEZONE:Europe/Berlin
BEGIN:VTIMEZONE
TZID:Europe/Berlin
X-LIC-LOCATION:Europe/Berlin
BEGIN:DAYLIGHT
TZOFFSETFROM:+0100
TZOFFSETTO:+0200
TZNAME:CEST
DTSTART;TZID=Europe/Berlin:19700329T020000
RRULE:FREQ=YEARLY;INTERVAL=1;BYDAY=-1SU;BYMONTH=3
END:DAYLIGHT
BEGIN:STANDARD
TZOFFSETFROM:+0200
TZOFFSETTO:+0100
TZNAME:CET
DTSTART;TZID=Europe/Berlin:19701025T030000
RRULE:FREQ=YEARLY;INTERVAL=1;BYDAY=-1SU;BYMONTH=10
END:STANDARD
END:VTIMEZONE
BEGIN:VEVENT
DTSTAMP:20260421T134452
DTSTART;TZID=Europe/Berlin:20260826T150000
DTEND;TZID=Europe/Berlin:20260826T154500
UID:26201MUS01-20260826T150000@KATH. FBSHAMBURG
SUMMARY:Musikgarten für Babys ab 4 Monaten bis 1,5 Jahre (26201MUS01) 
LOCATION:Kath. Familienbildungsstätte Hamburg e.V., Eltern-Kind-Raum, Lübecker Str. 101, 22087 Hamburg
END:VEVENT
BEGIN:VEVENT
DTSTAMP:20260421T134452
DTSTART;TZID=Europe/Berlin:20260902T150000
DTEND;TZID=Europe/Berlin:20260902T154500
UID:26201MUS01-20260902T150000@KATH. FBSHAMBURG
SUMMARY:Musikgarten für Babys ab 4 Monaten bis 1,5 Jahre (26201MUS01) 
LOCATION:Kath. Familienbildungsstätte Hamburg e.V., Eltern-Kind-Raum, Lübecker Str. 101, 22087 Hamburg
END:VEVENT
BEGIN:VEVENT
DTSTAMP:20260421T134452
DTSTART;TZID=Europe/Berlin:20260909T150000
DTEND;TZID=Europe/Berlin:20260909T154500
UID:26201MUS01-20260909T150000@KATH. FBSHAMBURG
SUMMARY:Musikgarten für Babys ab 4 Monaten bis 1,5 Jahre (26201MUS01) 
LOCATION:Kath. Familienbildungsstätte Hamburg e.V., Eltern-Kind-Raum, Lübecker Str. 101, 22087 Hamburg
END:VEVENT
BEGIN:VEVENT
DTSTAMP:20260421T134452
DTSTART;TZID=Europe/Berlin:20260916T150000
DTEND;TZID=Europe/Berlin:20260916T154500
UID:26201MUS01-20260916T150000@KATH. FBSHAMBURG
SUMMARY:Musikgarten für Babys ab 4 Monaten bis 1,5 Jahre (26201MUS01) 
LOCATION:Kath. Familienbildungsstätte Hamburg e.V., Eltern-Kind-Raum, Lübecker Str. 101, 22087 Hamburg
END:VEVENT
BEGIN:VEVENT
DTSTAMP:20260421T134452
DTSTART;TZID=Europe/Berlin:20260923T150000
DTEND;TZID=Europe/Berlin:20260923T154500
UID:26201MUS01-20260923T150000@KATH. FBSHAMBURG
SUMMARY:Musikgarten für Babys ab 4 Monaten bis 1,5 Jahre (26201MUS01) 
LOCATION:Kath. Familienbildungsstätte Hamburg e.V., Eltern-Kind-Raum, Lübecker Str. 101, 22087 Hamburg
END:VEVENT
BEGIN:VEVENT
DTSTAMP:20260421T134452
DTSTART;TZID=Europe/Berlin:20260930T150000
DTEND;TZID=Europe/Berlin:20260930T154500
UID:26201MUS01-20260930T150000@KATH. FBSHAMBURG
SUMMARY:Musikgarten für Babys ab 4 Monaten bis 1,5 Jahre (26201MUS01) 
LOCATION:Kath. Familienbildungsstätte Hamburg e.V., Eltern-Kind-Raum, Lübecker Str. 101, 22087 Hamburg
END:VEVENT
BEGIN:VEVENT
DTSTAMP:20260421T134452
DTSTART;TZID=Europe/Berlin:20261007T150000
DTEND;TZID=Europe/Berlin:20261007T154500
UID:26201MUS01-20261007T150000@KATH. FBSHAMBURG
SUMMARY:Musikgarten für Babys ab 4 Monaten bis 1,5 Jahre (26201MUS01) 
LOCATION:Kath. Familienbildungsstätte Hamburg e.V., Eltern-Kind-Raum, Lübecker Str. 101, 22087 Hamburg
END:VEVENT
END:VCALENDAR