BEGIN:VCALENDAR
VERSION:2.0
PRODID:http://www.kufer.de/kuferweb / DE
METHOD:PUBLISH
CALSCALE:GREGORIAN
X-WR-TIMEZONE:Europe/Berlin
BEGIN:VTIMEZONE
TZID:Europe/Berlin
X-LIC-LOCATION:Europe/Berlin
BEGIN:DAYLIGHT
TZOFFSETFROM:+0100
TZOFFSETTO:+0200
TZNAME:CEST
DTSTART;TZID=Europe/Berlin:19700329T020000
RRULE:FREQ=YEARLY;INTERVAL=1;BYDAY=-1SU;BYMONTH=3
END:DAYLIGHT
BEGIN:STANDARD
TZOFFSETFROM:+0200
TZOFFSETTO:+0100
TZNAME:CET
DTSTART;TZID=Europe/Berlin:19701025T030000
RRULE:FREQ=YEARLY;INTERVAL=1;BYDAY=-1SU;BYMONTH=10
END:STANDARD
END:VTIMEZONE
BEGIN:VEVENT
DTSTAMP:20260421T140600
DTSTART;TZID=Europe/Berlin:20261027T104500
DTEND;TZID=Europe/Berlin:20261027T120000
UID:26201DEL06-20261027T104500@KATH. FBSHAMBURG
SUMMARY:Delfi für Babys DELFI® = Denken, Entwickeln, Lieben, Fühlen, Individuell (26201DEL06) 
LOCATION:Kath. Familienbildungsstätte Hamburg e.V., Eltern-Kind-Raum, Lübecker Str. 101, 22087 Hamburg
END:VEVENT
BEGIN:VEVENT
DTSTAMP:20260421T140600
DTSTART;TZID=Europe/Berlin:20261103T104500
DTEND;TZID=Europe/Berlin:20261103T120000
UID:26201DEL06-20261103T104500@KATH. FBSHAMBURG
SUMMARY:Delfi für Babys DELFI® = Denken, Entwickeln, Lieben, Fühlen, Individuell (26201DEL06) 
LOCATION:Kath. Familienbildungsstätte Hamburg e.V., Eltern-Kind-Raum, Lübecker Str. 101, 22087 Hamburg
END:VEVENT
BEGIN:VEVENT
DTSTAMP:20260421T140600
DTSTART;TZID=Europe/Berlin:20261110T104500
DTEND;TZID=Europe/Berlin:20261110T120000
UID:26201DEL06-20261110T104500@KATH. FBSHAMBURG
SUMMARY:Delfi für Babys DELFI® = Denken, Entwickeln, Lieben, Fühlen, Individuell (26201DEL06) 
LOCATION:Kath. Familienbildungsstätte Hamburg e.V., Eltern-Kind-Raum, Lübecker Str. 101, 22087 Hamburg
END:VEVENT
BEGIN:VEVENT
DTSTAMP:20260421T140600
DTSTART;TZID=Europe/Berlin:20261117T104500
DTEND;TZID=Europe/Berlin:20261117T120000
UID:26201DEL06-20261117T104500@KATH. FBSHAMBURG
SUMMARY:Delfi für Babys DELFI® = Denken, Entwickeln, Lieben, Fühlen, Individuell (26201DEL06) 
LOCATION:Kath. Familienbildungsstätte Hamburg e.V., Eltern-Kind-Raum, Lübecker Str. 101, 22087 Hamburg
END:VEVENT
BEGIN:VEVENT
DTSTAMP:20260421T140600
DTSTART;TZID=Europe/Berlin:20261124T104500
DTEND;TZID=Europe/Berlin:20261124T120000
UID:26201DEL06-20261124T104500@KATH. FBSHAMBURG
SUMMARY:Delfi für Babys DELFI® = Denken, Entwickeln, Lieben, Fühlen, Individuell (26201DEL06) 
LOCATION:Kath. Familienbildungsstätte Hamburg e.V., Eltern-Kind-Raum, Lübecker Str. 101, 22087 Hamburg
END:VEVENT
BEGIN:VEVENT
DTSTAMP:20260421T140600
DTSTART;TZID=Europe/Berlin:20261201T104500
DTEND;TZID=Europe/Berlin:20261201T120000
UID:26201DEL06-20261201T104500@KATH. FBSHAMBURG
SUMMARY:Delfi für Babys DELFI® = Denken, Entwickeln, Lieben, Fühlen, Individuell (26201DEL06) 
LOCATION:Kath. Familienbildungsstätte Hamburg e.V., Eltern-Kind-Raum, Lübecker Str. 101, 22087 Hamburg
END:VEVENT
BEGIN:VEVENT
DTSTAMP:20260421T140600
DTSTART;TZID=Europe/Berlin:20261208T104500
DTEND;TZID=Europe/Berlin:20261208T120000
UID:26201DEL06-20261208T104500@KATH. FBSHAMBURG
SUMMARY:Delfi für Babys DELFI® = Denken, Entwickeln, Lieben, Fühlen, Individuell (26201DEL06) 
LOCATION:Kath. Familienbildungsstätte Hamburg e.V., Eltern-Kind-Raum, Lübecker Str. 101, 22087 Hamburg
END:VEVENT
BEGIN:VEVENT
DTSTAMP:20260421T140600
DTSTART;TZID=Europe/Berlin:20261215T104500
DTEND;TZID=Europe/Berlin:20261215T120000
UID:26201DEL06-20261215T104500@KATH. FBSHAMBURG
SUMMARY:Delfi für Babys DELFI® = Denken, Entwickeln, Lieben, Fühlen, Individuell (26201DEL06) 
LOCATION:Kath. Familienbildungsstätte Hamburg e.V., Eltern-Kind-Raum, Lübecker Str. 101, 22087 Hamburg
END:VEVENT
END:VCALENDAR