BEGIN:VCALENDAR
VERSION:2.0
PRODID:http://www.kufer.de/kuferweb / DE
METHOD:PUBLISH
CALSCALE:GREGORIAN
X-WR-TIMEZONE:Europe/Berlin
BEGIN:VTIMEZONE
TZID:Europe/Berlin
X-LIC-LOCATION:Europe/Berlin
BEGIN:DAYLIGHT
TZOFFSETFROM:+0100
TZOFFSETTO:+0200
TZNAME:CEST
DTSTART;TZID=Europe/Berlin:19700329T020000
RRULE:FREQ=YEARLY;INTERVAL=1;BYDAY=-1SU;BYMONTH=3
END:DAYLIGHT
BEGIN:STANDARD
TZOFFSETFROM:+0200
TZOFFSETTO:+0100
TZNAME:CET
DTSTART;TZID=Europe/Berlin:19701025T030000
RRULE:FREQ=YEARLY;INTERVAL=1;BYDAY=-1SU;BYMONTH=10
END:STANDARD
END:VTIMEZONE
BEGIN:VEVENT
DTSTAMP:20260421T140504
DTSTART;TZID=Europe/Berlin:20260811T104500
DTEND;TZID=Europe/Berlin:20260811T120000
UID:26201DEL02-20260811T104500@KATH. FBSHAMBURG
SUMMARY:Delfi für Babys DELFI® = Denken, Entwickeln, Lieben, Fühlen, Individuell (26201DEL02) 
LOCATION:Kath. Familienbildungsstätte Hamburg e.V., Eltern-Kind-Raum, Lübecker Str. 101, 22087 Hamburg
END:VEVENT
BEGIN:VEVENT
DTSTAMP:20260421T140504
DTSTART;TZID=Europe/Berlin:20260818T104500
DTEND;TZID=Europe/Berlin:20260818T120000
UID:26201DEL02-20260818T104500@KATH. FBSHAMBURG
SUMMARY:Delfi für Babys DELFI® = Denken, Entwickeln, Lieben, Fühlen, Individuell (26201DEL02) 
LOCATION:Kath. Familienbildungsstätte Hamburg e.V., Eltern-Kind-Raum, Lübecker Str. 101, 22087 Hamburg
END:VEVENT
BEGIN:VEVENT
DTSTAMP:20260421T140504
DTSTART;TZID=Europe/Berlin:20260825T104500
DTEND;TZID=Europe/Berlin:20260825T120000
UID:26201DEL02-20260825T104500@KATH. FBSHAMBURG
SUMMARY:Delfi für Babys DELFI® = Denken, Entwickeln, Lieben, Fühlen, Individuell (26201DEL02) 
LOCATION:Kath. Familienbildungsstätte Hamburg e.V., Eltern-Kind-Raum, Lübecker Str. 101, 22087 Hamburg
END:VEVENT
BEGIN:VEVENT
DTSTAMP:20260421T140504
DTSTART;TZID=Europe/Berlin:20260901T104500
DTEND;TZID=Europe/Berlin:20260901T120000
UID:26201DEL02-20260901T104500@KATH. FBSHAMBURG
SUMMARY:Delfi für Babys DELFI® = Denken, Entwickeln, Lieben, Fühlen, Individuell (26201DEL02) 
LOCATION:Kath. Familienbildungsstätte Hamburg e.V., Eltern-Kind-Raum, Lübecker Str. 101, 22087 Hamburg
END:VEVENT
BEGIN:VEVENT
DTSTAMP:20260421T140504
DTSTART;TZID=Europe/Berlin:20260908T104500
DTEND;TZID=Europe/Berlin:20260908T120000
UID:26201DEL02-20260908T104500@KATH. FBSHAMBURG
SUMMARY:Delfi für Babys DELFI® = Denken, Entwickeln, Lieben, Fühlen, Individuell (26201DEL02) 
LOCATION:Kath. Familienbildungsstätte Hamburg e.V., Eltern-Kind-Raum, Lübecker Str. 101, 22087 Hamburg
END:VEVENT
BEGIN:VEVENT
DTSTAMP:20260421T140504
DTSTART;TZID=Europe/Berlin:20260915T104500
DTEND;TZID=Europe/Berlin:20260915T120000
UID:26201DEL02-20260915T104500@KATH. FBSHAMBURG
SUMMARY:Delfi für Babys DELFI® = Denken, Entwickeln, Lieben, Fühlen, Individuell (26201DEL02) 
LOCATION:Kath. Familienbildungsstätte Hamburg e.V., Eltern-Kind-Raum, Lübecker Str. 101, 22087 Hamburg
END:VEVENT
BEGIN:VEVENT
DTSTAMP:20260421T140504
DTSTART;TZID=Europe/Berlin:20260922T104500
DTEND;TZID=Europe/Berlin:20260922T120000
UID:26201DEL02-20260922T104500@KATH. FBSHAMBURG
SUMMARY:Delfi für Babys DELFI® = Denken, Entwickeln, Lieben, Fühlen, Individuell (26201DEL02) 
LOCATION:Kath. Familienbildungsstätte Hamburg e.V., Eltern-Kind-Raum, Lübecker Str. 101, 22087 Hamburg
END:VEVENT
BEGIN:VEVENT
DTSTAMP:20260421T140504
DTSTART;TZID=Europe/Berlin:20260929T104500
DTEND;TZID=Europe/Berlin:20260929T120000
UID:26201DEL02-20260929T104500@KATH. FBSHAMBURG
SUMMARY:Delfi für Babys DELFI® = Denken, Entwickeln, Lieben, Fühlen, Individuell (26201DEL02) 
LOCATION:Kath. Familienbildungsstätte Hamburg e.V., Eltern-Kind-Raum, Lübecker Str. 101, 22087 Hamburg
END:VEVENT
BEGIN:VEVENT
DTSTAMP:20260421T140504
DTSTART;TZID=Europe/Berlin:20261006T104500
DTEND;TZID=Europe/Berlin:20261006T120000
UID:26201DEL02-20261006T104500@KATH. FBSHAMBURG
SUMMARY:Delfi für Babys DELFI® = Denken, Entwickeln, Lieben, Fühlen, Individuell (26201DEL02) 
LOCATION:Kath. Familienbildungsstätte Hamburg e.V., Eltern-Kind-Raum, Lübecker Str. 101, 22087 Hamburg
END:VEVENT
BEGIN:VEVENT
DTSTAMP:20260421T140504
DTSTART;TZID=Europe/Berlin:20261013T104500
DTEND;TZID=Europe/Berlin:20261013T120000
UID:26201DEL02-20261013T104500@KATH. FBSHAMBURG
SUMMARY:Delfi für Babys DELFI® = Denken, Entwickeln, Lieben, Fühlen, Individuell (26201DEL02) 
LOCATION:Kath. Familienbildungsstätte Hamburg e.V., Eltern-Kind-Raum, Lübecker Str. 101, 22087 Hamburg
END:VEVENT
END:VCALENDAR