BEGIN:VCALENDAR
VERSION:2.0
PRODID:http://www.kufer.de/kuferweb / DE
METHOD:PUBLISH
CALSCALE:GREGORIAN
X-WR-TIMEZONE:Europe/Berlin
BEGIN:VTIMEZONE
TZID:Europe/Berlin
X-LIC-LOCATION:Europe/Berlin
BEGIN:DAYLIGHT
TZOFFSETFROM:+0100
TZOFFSETTO:+0200
TZNAME:CEST
DTSTART;TZID=Europe/Berlin:19700329T020000
RRULE:FREQ=YEARLY;INTERVAL=1;BYDAY=-1SU;BYMONTH=3
END:DAYLIGHT
BEGIN:STANDARD
TZOFFSETFROM:+0200
TZOFFSETTO:+0100
TZNAME:CET
DTSTART;TZID=Europe/Berlin:19701025T030000
RRULE:FREQ=YEARLY;INTERVAL=1;BYDAY=-1SU;BYMONTH=10
END:STANDARD
END:VTIMEZONE
BEGIN:VEVENT
DTSTAMP:20260421T105147
DTSTART;TZID=Europe/Berlin:20260520T155500
DTEND;TZID=Europe/Berlin:20260520T164000
UID:26101MUS08-20260520T155500@KATH. FBSHAMBURG
SUMMARY:Musikgarten für Eltern mit Kindern von 1,5-3 Jahren (26101MUS08) 
LOCATION:Kath. Familienbildungsstätte Hamburg e.V., Eltern-Kind-Raum, Lübecker Str. 101, 22087 Hamburg
END:VEVENT
BEGIN:VEVENT
DTSTAMP:20260421T105147
DTSTART;TZID=Europe/Berlin:20260527T155500
DTEND;TZID=Europe/Berlin:20260527T164000
UID:26101MUS08-20260527T155500@KATH. FBSHAMBURG
SUMMARY:Musikgarten für Eltern mit Kindern von 1,5-3 Jahren (26101MUS08) 
LOCATION:Kath. Familienbildungsstätte Hamburg e.V., Eltern-Kind-Raum, Lübecker Str. 101, 22087 Hamburg
END:VEVENT
BEGIN:VEVENT
DTSTAMP:20260421T105147
DTSTART;TZID=Europe/Berlin:20260603T155500
DTEND;TZID=Europe/Berlin:20260603T164000
UID:26101MUS08-20260603T155500@KATH. FBSHAMBURG
SUMMARY:Musikgarten für Eltern mit Kindern von 1,5-3 Jahren (26101MUS08) 
LOCATION:Kath. Familienbildungsstätte Hamburg e.V., Eltern-Kind-Raum, Lübecker Str. 101, 22087 Hamburg
END:VEVENT
BEGIN:VEVENT
DTSTAMP:20260421T105147
DTSTART;TZID=Europe/Berlin:20260610T155500
DTEND;TZID=Europe/Berlin:20260610T164000
UID:26101MUS08-20260610T155500@KATH. FBSHAMBURG
SUMMARY:Musikgarten für Eltern mit Kindern von 1,5-3 Jahren (26101MUS08) 
LOCATION:Kath. Familienbildungsstätte Hamburg e.V., Eltern-Kind-Raum, Lübecker Str. 101, 22087 Hamburg
END:VEVENT
BEGIN:VEVENT
DTSTAMP:20260421T105147
DTSTART;TZID=Europe/Berlin:20260617T155500
DTEND;TZID=Europe/Berlin:20260617T164000
UID:26101MUS08-20260617T155500@KATH. FBSHAMBURG
SUMMARY:Musikgarten für Eltern mit Kindern von 1,5-3 Jahren (26101MUS08) 
LOCATION:Kath. Familienbildungsstätte Hamburg e.V., Eltern-Kind-Raum, Lübecker Str. 101, 22087 Hamburg
END:VEVENT
BEGIN:VEVENT
DTSTAMP:20260421T105147
DTSTART;TZID=Europe/Berlin:20260624T155500
DTEND;TZID=Europe/Berlin:20260624T164000
UID:26101MUS08-20260624T155500@KATH. FBSHAMBURG
SUMMARY:Musikgarten für Eltern mit Kindern von 1,5-3 Jahren (26101MUS08) 
LOCATION:Kath. Familienbildungsstätte Hamburg e.V., Eltern-Kind-Raum, Lübecker Str. 101, 22087 Hamburg
END:VEVENT
BEGIN:VEVENT
DTSTAMP:20260421T105147
DTSTART;TZID=Europe/Berlin:20260701T155500
DTEND;TZID=Europe/Berlin:20260701T164000
UID:26101MUS08-20260701T155500@KATH. FBSHAMBURG
SUMMARY:Musikgarten für Eltern mit Kindern von 1,5-3 Jahren (26101MUS08) 
LOCATION:Kath. Familienbildungsstätte Hamburg e.V., Eltern-Kind-Raum, Lübecker Str. 101, 22087 Hamburg
END:VEVENT
END:VCALENDAR