BEGIN:VCALENDAR
VERSION:2.0
PRODID:http://www.kufer.de/kuferweb / DE
METHOD:PUBLISH
CALSCALE:GREGORIAN
X-WR-TIMEZONE:Europe/Berlin
BEGIN:VTIMEZONE
TZID:Europe/Berlin
X-LIC-LOCATION:Europe/Berlin
BEGIN:DAYLIGHT
TZOFFSETFROM:+0100
TZOFFSETTO:+0200
TZNAME:CEST
DTSTART;TZID=Europe/Berlin:19700329T020000
RRULE:FREQ=YEARLY;INTERVAL=1;BYDAY=-1SU;BYMONTH=3
END:DAYLIGHT
BEGIN:STANDARD
TZOFFSETFROM:+0200
TZOFFSETTO:+0100
TZNAME:CET
DTSTART;TZID=Europe/Berlin:19701025T030000
RRULE:FREQ=YEARLY;INTERVAL=1;BYDAY=-1SU;BYMONTH=10
END:STANDARD
END:VTIMEZONE
BEGIN:VEVENT
DTSTAMP:20260421T123116
DTSTART;TZID=Europe/Berlin:20260526T104500
DTEND;TZID=Europe/Berlin:20260526T120000
UID:26101DEL10-20260526T104500@KATH. FBSHAMBURG
SUMMARY:Delfi für Babys DELFI® = Denken, Entwickeln, Lieben, Fühlen, Individuell (26101DEL10) 
LOCATION:Kath. Familienbildungsstätte Hamburg e.V., Eltern-Kind-Raum, Lübecker Str. 101, 22087 Hamburg
END:VEVENT
BEGIN:VEVENT
DTSTAMP:20260421T123116
DTSTART;TZID=Europe/Berlin:20260602T104500
DTEND;TZID=Europe/Berlin:20260602T120000
UID:26101DEL10-20260602T104500@KATH. FBSHAMBURG
SUMMARY:Delfi für Babys DELFI® = Denken, Entwickeln, Lieben, Fühlen, Individuell (26101DEL10) 
LOCATION:Kath. Familienbildungsstätte Hamburg e.V., Eltern-Kind-Raum, Lübecker Str. 101, 22087 Hamburg
END:VEVENT
BEGIN:VEVENT
DTSTAMP:20260421T123116
DTSTART;TZID=Europe/Berlin:20260609T104500
DTEND;TZID=Europe/Berlin:20260609T120000
UID:26101DEL10-20260609T104500@KATH. FBSHAMBURG
SUMMARY:Delfi für Babys DELFI® = Denken, Entwickeln, Lieben, Fühlen, Individuell (26101DEL10) 
LOCATION:Kath. Familienbildungsstätte Hamburg e.V., Eltern-Kind-Raum, Lübecker Str. 101, 22087 Hamburg
END:VEVENT
BEGIN:VEVENT
DTSTAMP:20260421T123116
DTSTART;TZID=Europe/Berlin:20260616T104500
DTEND;TZID=Europe/Berlin:20260616T120000
UID:26101DEL10-20260616T104500@KATH. FBSHAMBURG
SUMMARY:Delfi für Babys DELFI® = Denken, Entwickeln, Lieben, Fühlen, Individuell (26101DEL10) 
LOCATION:Kath. Familienbildungsstätte Hamburg e.V., Eltern-Kind-Raum, Lübecker Str. 101, 22087 Hamburg
END:VEVENT
BEGIN:VEVENT
DTSTAMP:20260421T123116
DTSTART;TZID=Europe/Berlin:20260623T104500
DTEND;TZID=Europe/Berlin:20260623T120000
UID:26101DEL10-20260623T104500@KATH. FBSHAMBURG
SUMMARY:Delfi für Babys DELFI® = Denken, Entwickeln, Lieben, Fühlen, Individuell (26101DEL10) 
LOCATION:Kath. Familienbildungsstätte Hamburg e.V., Eltern-Kind-Raum, Lübecker Str. 101, 22087 Hamburg
END:VEVENT
BEGIN:VEVENT
DTSTAMP:20260421T123116
DTSTART;TZID=Europe/Berlin:20260630T104500
DTEND;TZID=Europe/Berlin:20260630T120000
UID:26101DEL10-20260630T104500@KATH. FBSHAMBURG
SUMMARY:Delfi für Babys DELFI® = Denken, Entwickeln, Lieben, Fühlen, Individuell (26101DEL10) 
LOCATION:Kath. Familienbildungsstätte Hamburg e.V., Eltern-Kind-Raum, Lübecker Str. 101, 22087 Hamburg
END:VEVENT
BEGIN:VEVENT
DTSTAMP:20260421T123116
DTSTART;TZID=Europe/Berlin:20260707T104500
DTEND;TZID=Europe/Berlin:20260707T120000
UID:26101DEL10-20260707T104500@KATH. FBSHAMBURG
SUMMARY:Delfi für Babys DELFI® = Denken, Entwickeln, Lieben, Fühlen, Individuell (26101DEL10) 
LOCATION:Kath. Familienbildungsstätte Hamburg e.V., Eltern-Kind-Raum, Lübecker Str. 101, 22087 Hamburg
END:VEVENT
BEGIN:VEVENT
DTSTAMP:20260421T123116
DTSTART;TZID=Europe/Berlin:20260714T104500
DTEND;TZID=Europe/Berlin:20260714T120000
UID:26101DEL10-20260714T104500@KATH. FBSHAMBURG
SUMMARY:Delfi für Babys DELFI® = Denken, Entwickeln, Lieben, Fühlen, Individuell (26101DEL10) 
LOCATION:Kath. Familienbildungsstätte Hamburg e.V., Eltern-Kind-Raum, Lübecker Str. 101, 22087 Hamburg
END:VEVENT
END:VCALENDAR