BEGIN:VCALENDAR
VERSION:2.0
PRODID:http://www.kufer.de/kuferweb / DE
METHOD:PUBLISH
CALSCALE:GREGORIAN
X-WR-TIMEZONE:Europe/Berlin
BEGIN:VTIMEZONE
TZID:Europe/Berlin
X-LIC-LOCATION:Europe/Berlin
BEGIN:DAYLIGHT
TZOFFSETFROM:+0100
TZOFFSETTO:+0200
TZNAME:CEST
DTSTART;TZID=Europe/Berlin:19700329T020000
RRULE:FREQ=YEARLY;INTERVAL=1;BYDAY=-1SU;BYMONTH=3
END:DAYLIGHT
BEGIN:STANDARD
TZOFFSETFROM:+0200
TZOFFSETTO:+0100
TZNAME:CET
DTSTART;TZID=Europe/Berlin:19701025T030000
RRULE:FREQ=YEARLY;INTERVAL=1;BYDAY=-1SU;BYMONTH=10
END:STANDARD
END:VTIMEZONE
BEGIN:VEVENT
DTSTAMP:20260421T123100
DTSTART;TZID=Europe/Berlin:20260310T121500
DTEND;TZID=Europe/Berlin:20260310T133000
UID:26101DEL07-20260310T121500@KATH. FBSHAMBURG
SUMMARY:Delfi für Babys DELFI® = Denken, Entwickeln, Lieben, Fühlen, Individuell (26101DEL07) 
LOCATION:Kath. Familienbildungsstätte Hamburg e.V., Eltern-Kind-Raum, Lübecker Str. 101, 22087 Hamburg
END:VEVENT
BEGIN:VEVENT
DTSTAMP:20260421T123100
DTSTART;TZID=Europe/Berlin:20260331T121500
DTEND;TZID=Europe/Berlin:20260331T133000
UID:26101DEL07-20260331T121500@KATH. FBSHAMBURG
SUMMARY:Delfi für Babys DELFI® = Denken, Entwickeln, Lieben, Fühlen, Individuell (26101DEL07) 
LOCATION:Kath. Familienbildungsstätte Hamburg e.V., Eltern-Kind-Raum, Lübecker Str. 101, 22087 Hamburg
END:VEVENT
BEGIN:VEVENT
DTSTAMP:20260421T123100
DTSTART;TZID=Europe/Berlin:20260407T121500
DTEND;TZID=Europe/Berlin:20260407T133000
UID:26101DEL07-20260407T121500@KATH. FBSHAMBURG
SUMMARY:Delfi für Babys DELFI® = Denken, Entwickeln, Lieben, Fühlen, Individuell (26101DEL07) 
LOCATION:Kath. Familienbildungsstätte Hamburg e.V., Eltern-Kind-Raum, Lübecker Str. 101, 22087 Hamburg
END:VEVENT
BEGIN:VEVENT
DTSTAMP:20260421T123100
DTSTART;TZID=Europe/Berlin:20260414T121500
DTEND;TZID=Europe/Berlin:20260414T133000
UID:26101DEL07-20260414T121500@KATH. FBSHAMBURG
SUMMARY:Delfi für Babys DELFI® = Denken, Entwickeln, Lieben, Fühlen, Individuell (26101DEL07) 
LOCATION:Kath. Familienbildungsstätte Hamburg e.V., Eltern-Kind-Raum, Lübecker Str. 101, 22087 Hamburg
END:VEVENT
BEGIN:VEVENT
DTSTAMP:20260421T123100
DTSTART;TZID=Europe/Berlin:20260421T121500
DTEND;TZID=Europe/Berlin:20260421T133000
UID:26101DEL07-20260421T121500@KATH. FBSHAMBURG
SUMMARY:Delfi für Babys DELFI® = Denken, Entwickeln, Lieben, Fühlen, Individuell (26101DEL07) 
LOCATION:Kath. Familienbildungsstätte Hamburg e.V., Eltern-Kind-Raum, Lübecker Str. 101, 22087 Hamburg
END:VEVENT
BEGIN:VEVENT
DTSTAMP:20260421T123100
DTSTART;TZID=Europe/Berlin:20260428T121500
DTEND;TZID=Europe/Berlin:20260428T133000
UID:26101DEL07-20260428T121500@KATH. FBSHAMBURG
SUMMARY:Delfi für Babys DELFI® = Denken, Entwickeln, Lieben, Fühlen, Individuell (26101DEL07) 
LOCATION:Kath. Familienbildungsstätte Hamburg e.V., Eltern-Kind-Raum, Lübecker Str. 101, 22087 Hamburg
END:VEVENT
BEGIN:VEVENT
DTSTAMP:20260421T123100
DTSTART;TZID=Europe/Berlin:20260505T121500
DTEND;TZID=Europe/Berlin:20260505T133000
UID:26101DEL07-20260505T121500@KATH. FBSHAMBURG
SUMMARY:Delfi für Babys DELFI® = Denken, Entwickeln, Lieben, Fühlen, Individuell (26101DEL07) 
LOCATION:Kath. Familienbildungsstätte Hamburg e.V., Eltern-Kind-Raum, Lübecker Str. 101, 22087 Hamburg
END:VEVENT
BEGIN:VEVENT
DTSTAMP:20260421T123100
DTSTART;TZID=Europe/Berlin:20260519T121500
DTEND;TZID=Europe/Berlin:20260519T133000
UID:26101DEL07-20260519T121500@KATH. FBSHAMBURG
SUMMARY:Delfi für Babys DELFI® = Denken, Entwickeln, Lieben, Fühlen, Individuell (26101DEL07) 
LOCATION:Kath. Familienbildungsstätte Hamburg e.V., Eltern-Kind-Raum, Lübecker Str. 101, 22087 Hamburg
END:VEVENT
END:VCALENDAR